BEGIN:VCALENDAR
VERSION:2.0
PRODID:-//Peoria Nazarene Church - ECPv6.15.17//NONSGML v1.0//EN
CALSCALE:GREGORIAN
METHOD:PUBLISH
X-WR-CALNAME:Peoria Nazarene Church
X-ORIGINAL-URL:https://peorianazarene.church
X-WR-CALDESC:Events for Peoria Nazarene Church
REFRESH-INTERVAL;VALUE=DURATION:PT1H
X-Robots-Tag:noindex
X-PUBLISHED-TTL:PT1H
BEGIN:VTIMEZONE
TZID:America/Chicago
BEGIN:DAYLIGHT
TZOFFSETFROM:-0600
TZOFFSETTO:-0500
TZNAME:CDT
DTSTART:20180311T080000
END:DAYLIGHT
BEGIN:STANDARD
TZOFFSETFROM:-0500
TZOFFSETTO:-0600
TZNAME:CST
DTSTART:20181104T070000
END:STANDARD
BEGIN:DAYLIGHT
TZOFFSETFROM:-0600
TZOFFSETTO:-0500
TZNAME:CDT
DTSTART:20190310T080000
END:DAYLIGHT
BEGIN:STANDARD
TZOFFSETFROM:-0500
TZOFFSETTO:-0600
TZNAME:CST
DTSTART:20191103T070000
END:STANDARD
BEGIN:DAYLIGHT
TZOFFSETFROM:-0600
TZOFFSETTO:-0500
TZNAME:CDT
DTSTART:20200308T080000
END:DAYLIGHT
BEGIN:STANDARD
TZOFFSETFROM:-0500
TZOFFSETTO:-0600
TZNAME:CST
DTSTART:20201101T070000
END:STANDARD
BEGIN:DAYLIGHT
TZOFFSETFROM:-0600
TZOFFSETTO:-0500
TZNAME:CDT
DTSTART:20210314T080000
END:DAYLIGHT
BEGIN:STANDARD
TZOFFSETFROM:-0500
TZOFFSETTO:-0600
TZNAME:CST
DTSTART:20211107T070000
END:STANDARD
BEGIN:DAYLIGHT
TZOFFSETFROM:-0600
TZOFFSETTO:-0500
TZNAME:CDT
DTSTART:20220313T080000
END:DAYLIGHT
BEGIN:STANDARD
TZOFFSETFROM:-0500
TZOFFSETTO:-0600
TZNAME:CST
DTSTART:20221106T070000
END:STANDARD
END:VTIMEZONE
BEGIN:VEVENT
DTSTART;TZID=America/Chicago:20210217T180000
DTEND;TZID=America/Chicago:20210217T190000
DTSTAMP:20260420T120607
CREATED:20210204T200641Z
LAST-MODIFIED:20210214T160210Z
UID:2404-1613584800-1613588400@peorianazarene.church
SUMMARY:Ash Wednesday Gathering
DESCRIPTION:Join us on Ash Wednesday February 17 for a family devotional and meal. We will be ordering sandwiches from Chick-Fil-A. Sign up on your Connection Card.
URL:https://peorianazarene.church/event/ash-wednesday-gathering/
LOCATION:5504 N University St\, Peoria\, IL\, 61614\, United States
ATTACH;FMTTYPE=image/png:/wp-content/uploads/2021/02/Screen-Shot-2021-02-04-at-1.57.33-PM.png
END:VEVENT
BEGIN:VEVENT
DTSTART;TZID=America/Chicago:20210210T133000
DTEND;TZID=America/Chicago:20210213T133000
DTSTAMP:20260420T120607
CREATED:20210210T170546Z
LAST-MODIFIED:20210210T170546Z
UID:2478-1612963800-1613223000@peorianazarene.church
SUMMARY:The Links' Livestream Wedding Ceremony
DESCRIPTION:Pastor Shawn and Cauriana’s wedding ceremony will be livestreamed this weekend on February 13th\, 2021 at 1:30 P.M. Central Time. You can access the livestream by going to the Peoria Nazarene Youtube Channel or the Peoria Nazarene Church Facebook Page. \nPlease join Pastor Shawn and Cauriana THIS SATURDAY in celebrating God’s good gift of marriage as they honor God in becoming one flesh!
URL:https://peorianazarene.church/event/the-links-livestream-wedding-ceremony/
LOCATION:IL
ATTACH;FMTTYPE=image/png:/wp-content/uploads/2021/02/1411f692-3440-472e-b618-94a7e3ecb71a.png
END:VEVENT
BEGIN:VEVENT
DTSTART;TZID=America/Chicago:20210103T103000
DTEND;TZID=America/Chicago:20210103T113000
DTSTAMP:20260420T120607
CREATED:20190611T235627Z
LAST-MODIFIED:20201222T201848Z
UID:1141-1609669800-1609673400@peorianazarene.church
SUMMARY:Sunday Morning Worship
DESCRIPTION:WE ARE ONLINE ONLY THIS WEEK!\nThe service will be live streamed on YouTube and Facebook.
URL:https://peorianazarene.church/event/sunday-morning-worship-2-2019-06-23-2021-01-03/
LOCATION:5504 N University St\, Peoria\, IL\, 61614\, United States
ATTACH;FMTTYPE=image/jpeg:/wp-content/uploads/2019/06/eventheaderonline.jpg
END:VEVENT
BEGIN:VEVENT
DTSTART;TZID=America/Chicago:20201227T103000
DTEND;TZID=America/Chicago:20201227T113000
DTSTAMP:20260420T120607
CREATED:20190611T235627Z
LAST-MODIFIED:20201222T201547Z
UID:1140-1609065000-1609068600@peorianazarene.church
SUMMARY:Sunday Morning Worship
DESCRIPTION:WE ARE ONLINE ONLY THIS WEEK!\nThe service will be live streamed on YouTube and Facebook.
URL:https://peorianazarene.church/event/sunday-morning-worship-2-2019-06-23-2020-12-27/
LOCATION:5504 N University St\, Peoria\, IL\, 61614\, United States
ATTACH;FMTTYPE=image/jpeg:/wp-content/uploads/2019/06/eventheaderonline.jpg
END:VEVENT
BEGIN:VEVENT
DTSTART;TZID=America/Chicago:20201224T170000
DTEND;TZID=America/Chicago:20201224T180000
DTSTAMP:20260420T120607
CREATED:20201210T191907Z
LAST-MODIFIED:20201221T180435Z
UID:2133-1608829200-1608832800@peorianazarene.church
SUMMARY:Christmas Eve Candlelight Service
DESCRIPTION:Join us for a traditional Christmas Eve Candlelight service on December 24 @ 5:00pm. We will sing carols\, share Scripture and share in the Lord’s Supper.  We will end the evening by passing the light of the Christ-child as we sing. This service will be held in-person and online on Facebook and YouTube. \nFor those joining us via live stream\, we will be partaking in the Lord’s Supper together during this service. You can also participate in this experience from your home. Jesus used the elements of the cup and bread to represent His shed blood and broken body. You may simply use what you have in your home – bread or crackers and juice or water (grape juice is typical). Communion (the Lord’s Supper) is an ordinance given to all believers by Jesus to remember his sacrifice for us and to symbolize the new covenant. \nHOW TO PREPARE FOR COMMUNION\n1. Gather the elements – Crackers/Bread & Juice/Water – Feel free to use what you already have in your home or pick up these items between now and Sunday.\n2. Join our live stream on Facebook or YouTube – We will partake in the Lord’s Supper together toward the end of our worship service. Pastor Mark will give instructions to guide us through the experience. \nWe will also be closing the evening a candle lighting as we sing Silent Night. You can also gather candles to participate along with those worshipping in person.
URL:https://peorianazarene.church/event/christmas-eve-candlelight-service-2/
LOCATION:5504 N University St\, Peoria\, IL\, 61614\, United States
ATTACH;FMTTYPE=image/jpeg:/wp-content/uploads/2020/12/christmaseveservice.jpg
END:VEVENT
BEGIN:VEVENT
DTSTART;TZID=America/Chicago:20201220T103000
DTEND;TZID=America/Chicago:20201220T113000
DTSTAMP:20260420T120607
CREATED:20190611T235627Z
LAST-MODIFIED:20201020T152021Z
UID:1139-1608460200-1608463800@peorianazarene.church
SUMMARY:Advent - Week 4
DESCRIPTION:In Advent\, the church finds itself caught between times. The world’s true King has already come. However\, the reign of the King has not yet come in all of its fullness. In response\, God’s people fast and wait and pray—and in the waiting we are changed. During Advent\, we practice hope\, peace\, joy\, and love—four virtues that grow in us and change us\, making room for the new creation. \nJoin us this advent season as we progress through the four virtues that mark Advent. In this expectant season we pray\, Come quickly\, Lord Jesus. Come\, and make all things new! Let Earth Receive Her King.  \nDevotional resources are available at the Welcome Center.
URL:https://peorianazarene.church/event/sunday-morning-worship-2-2019-06-23-2020-12-20/
LOCATION:IL
ATTACH;FMTTYPE=image/jpeg:/wp-content/uploads/2019/06/lerhkweb.jpg
END:VEVENT
BEGIN:VEVENT
DTSTART;TZID=America/Chicago:20201220T093000
DTEND;TZID=America/Chicago:20201220T100000
DTSTAMP:20260420T120607
CREATED:20201216T204135Z
LAST-MODIFIED:20201216T204135Z
UID:2328-1608456600-1608458400@peorianazarene.church
SUMMARY:Zoom Christmas Carol Sing
DESCRIPTION:Begin the morning with worship before our 10:30 service. Join Pastor Mark and Pastor Flo for a Christmas Carol Sing on Zoom at 9:30 – Don’t worry no one will hear you sing so you can sing as loud as you want. Pastor Flo will be leading.\n\n\n\nIf you want to join via Zoom\, please email church office for the Zoom link.
URL:https://peorianazarene.church/event/zoom-christmas-carol-sing/
LOCATION:5504 N University St\, Peoria\, IL\, 61614\, United States
CATEGORIES:Christmas
ATTACH;FMTTYPE=image/jpeg:/wp-content/uploads/2020/12/Christmas-Carol-Sing.jpg
END:VEVENT
BEGIN:VEVENT
DTSTART;TZID=America/Chicago:20201213T103000
DTEND;TZID=America/Chicago:20201213T113000
DTSTAMP:20260420T120607
CREATED:20190611T235627Z
LAST-MODIFIED:20201020T151908Z
UID:1138-1607855400-1607859000@peorianazarene.church
SUMMARY:Advent - Week 3
DESCRIPTION:In Advent\, the church finds itself caught between times. The world’s true King has already come. However\, the reign of the King has not yet come in all of its fullness. In response\, God’s people fast and wait and pray—and in the waiting we are changed. During Advent\, we practice hope\, peace\, joy\, and love—four virtues that grow in us and change us\, making room for the new creation. \nJoin us this advent season as we progress through the four virtues that mark Advent. In this expectant season we pray\, Come quickly\, Lord Jesus. Come\, and make all things new! Let Earth Receive Her King.  \nDevotional resources are available at the Welcome Center.
URL:https://peorianazarene.church/event/sunday-morning-worship-2-2019-06-23-2020-12-13/
LOCATION:IL
ATTACH;FMTTYPE=image/jpeg:/wp-content/uploads/2019/06/lerhkweb.jpg
END:VEVENT
BEGIN:VEVENT
DTSTART;TZID=America/Chicago:20201206T103000
DTEND;TZID=America/Chicago:20201206T113000
DTSTAMP:20260420T120607
CREATED:20190611T235627Z
LAST-MODIFIED:20201202T210248Z
UID:1137-1607250600-1607254200@peorianazarene.church
SUMMARY:Advent - Week 2
DESCRIPTION:Our Sunday Morning Worship service will be online only this Sunday. You can join us on YouTube or Facebook at 10:30 am!\nIn Advent\, the church finds itself caught between times. The world’s true King has already come. However\, the reign of the King has not yet come in all of its fullness. In response\, God’s people fast and wait and pray—and in the waiting we are changed. During Advent\, we practice hope\, peace\, joy\, and love—four virtues that grow in us and change us\, making room for the new creation. \nJoin us this advent season as we progress through the four virtues that mark Advent. In this expectant season we pray\, Come quickly\, Lord Jesus. Come\, and make all things new! Let Earth Receive Her King.
URL:https://peorianazarene.church/event/sunday-morning-worship-2-2019-06-23-2020-12-06/
LOCATION:5504 N University St\, Peoria\, IL\, 61614\, United States
ATTACH;FMTTYPE=image/jpeg:/wp-content/uploads/2019/06/lerhkweb.jpg
END:VEVENT
BEGIN:VEVENT
DTSTART;TZID=America/Chicago:20201129T103000
DTEND;TZID=America/Chicago:20201129T113000
DTSTAMP:20260420T120607
CREATED:20190611T235627Z
LAST-MODIFIED:20201129T151553Z
UID:1136-1606645800-1606649400@peorianazarene.church
SUMMARY:Advent - Week 1
DESCRIPTION:Our Sunday Morning Worship service will be online only this Sunday. You can join us on YouTube or Facebook at 10:30 am!\nIn Advent\, the church finds itself caught between times. The world’s true King has already come. However\, the reign of the King has not yet come in all of its fullness. In response\, God’s people fast and wait and pray—and in the waiting we are changed. During Advent\, we practice hope\, peace\, joy\, and love—four virtues that grow in us and change us\, making room for the new creation. \nJoin us this advent season as we progress through the four virtues that mark Advent. In this expectant season we pray\, Come quickly\, Lord Jesus. Come\, and make all things new! Let Earth Receive Her King.  \nYou can fill out this week’s Connection Card here. \nIf you have not picked up a devotional book\, contact the church office. You can stop by the church to pick one up or one can be sent to you.
URL:https://peorianazarene.church/event/sunday-morning-worship-2-2019-06-23-2020-11-29/
LOCATION:5504 N University St\, Peoria\, IL\, 61614\, United States
ATTACH;FMTTYPE=image/jpeg:/wp-content/uploads/2019/06/lerhkweb.jpg
END:VEVENT
BEGIN:VEVENT
DTSTART;TZID=America/Chicago:20201122T103000
DTEND;TZID=America/Chicago:20201122T113000
DTSTAMP:20260420T120607
CREATED:20190611T235627Z
LAST-MODIFIED:20201120T151901Z
UID:1135-1606041000-1606044600@peorianazarene.church
SUMMARY:Sunday Morning Worship
DESCRIPTION:Our Sunday Morning Worship service will be online only this Sunday. You can join us on YouTube or Facebook at 10:30 am!
URL:https://peorianazarene.church/event/sunday-morning-worship-2-2019-06-23-2020-11-22/
LOCATION:5504 N University St\, Peoria\, IL\, 61614\, United States
ATTACH;FMTTYPE=image/jpeg:/wp-content/uploads/2019/06/eventheaderonline.jpg
END:VEVENT
BEGIN:VEVENT
DTSTART;TZID=America/Chicago:20201115T140000
DTEND;TZID=America/Chicago:20201115T170000
DTSTAMP:20260420T120607
CREATED:20201102T155639Z
LAST-MODIFIED:20201110T193326Z
UID:2063-1605448800-1605459600@peorianazarene.church
SUMMARY:Family Leaf Rake
DESCRIPTION:PLEASE NOTE THE UPDATED INFO BELOW\nFamilies – children and parents and anyone who is wanting to serve – are invited to our Family Leaf Rake on Sunday\, November 15th at 2:00 P.M. We will gather at 123 E. Oakwood Rd. East Peoria\, IL at 2:00 P.M. to go serve others by raking up their leaves. Dress to rake leaves and bring rakes. After serving we will come back to the church for pizza. This is a valuable opportunity to show our children what real Christian community and Christ-centered relationships look like\, “for even the Son of Man came not to be served but to serve\, and to give his life as a ransom for many” (Matt. 20:28). \nIf you would like to sign your family up to help rake leaves\, click here.\nIf you would like to sign up to have your lawn raked\, click here.
URL:https://peorianazarene.church/event/family-leaf-rake/
LOCATION:IL
CATEGORIES:Family,Kids
ATTACH;FMTTYPE=image/jpeg:/wp-content/uploads/2020/11/Family-Leaf-Rake-New-Meeting-place.jpg
END:VEVENT
BEGIN:VEVENT
DTSTART;TZID=America/Chicago:20201115T103000
DTEND;TZID=America/Chicago:20201115T113000
DTSTAMP:20260420T120607
CREATED:20190611T235627Z
LAST-MODIFIED:20201115T142909Z
UID:1134-1605436200-1605439800@peorianazarene.church
SUMMARY:Sunday Morning Worship
DESCRIPTION:You can fill out today’s Connection Card here.
URL:https://peorianazarene.church/event/sunday-morning-worship-2-2019-06-23-2020-11-15/
LOCATION:IL
END:VEVENT
BEGIN:VEVENT
DTSTART;TZID=America/Chicago:20201108T140000
DTEND;TZID=America/Chicago:20201108T150000
DTSTAMP:20260420T120607
CREATED:20201025T151318Z
LAST-MODIFIED:20201105T195354Z
UID:2052-1604844000-1604847600@peorianazarene.church
SUMMARY:Donna Layne Drive-Thru Retirement Reception
DESCRIPTION:Sunday\, November 8 – 2-3pm at Peoria Nazarene Church \nNOTE: We have made some changes to this event! Due to the increase in Covid cases in our area and in order to do all we can to ensure the health and safety of everyone\, we have changed this to a drive-thru reception in the Peoria Nazarene Church parking lot. The time has also changed to 2-3pm. You can drive-thru\, greet Donna and Wayne and leave any card or gift. Thanks for your understanding through this time and for coming out to show our love and appreciation for Donna!
URL:https://peorianazarene.church/event/donna-layne-retirement-reception/
LOCATION:IL
ATTACH;FMTTYPE=image/jpeg:/wp-content/uploads/2020/10/donnaretirementupdate.jpg
END:VEVENT
BEGIN:VEVENT
DTSTART;TZID=America/Chicago:20201108T093000
DTEND;TZID=America/Chicago:20201108T103000
DTSTAMP:20260420T120607
CREATED:20190611T235627Z
LAST-MODIFIED:20201020T195000Z
UID:1133-1604827800-1604831400@peorianazarene.church
SUMMARY:Christ-Centered Relationship w/ Pastor Mark McCall & Pastor Marty Johnson
DESCRIPTION:Join us for a special service as Pastor Mark will be joined by Pastor Marty Johnson from New Beginnings Ministries. Please note the change in time for this service!
URL:https://peorianazarene.church/event/sunday-morning-worship-2-2019-06-23-2020-11-08/
LOCATION:IL
ATTACH;FMTTYPE=image/jpeg:/wp-content/uploads/2019/06/ccrweb.jpg
END:VEVENT
BEGIN:VEVENT
DTSTART;TZID=America/Chicago:20200927T183000
DTEND;TZID=America/Chicago:20200927T210000
DTSTAMP:20260420T120607
CREATED:20200915T141952Z
LAST-MODIFIED:20200915T142112Z
UID:1991-1601231400-1601240400@peorianazarene.church
SUMMARY:Family Movie Night - Pilgrim's Progress
DESCRIPTION:Sunday\, September 27 – Come join us in the church parking lot for a family movie. We will be showing Pilgrim’s Progress. We will plan on gathering at 6:30 with the movie beginning at 6:45. Pull up a chair or watch from your vehicle! We will be broadcasting the audio via FM transmitter. Movie style popcorn and drinks will be provided!
URL:https://peorianazarene.church/event/family-movie-night-pilgrims-progress/
LOCATION:IL
ATTACH;FMTTYPE=image/jpeg:/wp-content/uploads/2020/09/movienightweb.jpg
END:VEVENT
BEGIN:VEVENT
DTSTART;TZID=America/Chicago:20200920T160000
DTEND;TZID=America/Chicago:20200920T190000
DTSTAMP:20260420T120607
CREATED:20200903T201326Z
LAST-MODIFIED:20200903T201759Z
UID:1977-1600617600-1600628400@peorianazarene.church
SUMMARY:PNC Kids Party in the Park
DESCRIPTION:When: Sept. 20 4-7pm \nWhere: Grieves Shelter FonDuLac Park in E Peoria \nCome join Shawn Link for some fun and games! Shaving Cream Wiffle Ball\, Sponge Relay\, Water Gold Rush & 9-Square! Shawn will also share a brief devotional. Playground and activities available for toddlers and preschool. Pizza\, chips and water will be provided! \nRSVP to Jenn McCall by September 18
URL:https://peorianazarene.church/event/pnc-kids-party-in-the-park/
LOCATION:IL
CATEGORIES:Kids
ATTACH;FMTTYPE=image/jpeg:/wp-content/uploads/2020/09/0920partyweb2.jpg
END:VEVENT
BEGIN:VEVENT
DTSTART;TZID=America/Chicago:20200412T103000
DTEND;TZID=America/Chicago:20200412T113000
DTSTAMP:20260420T120607
CREATED:20190611T235627Z
LAST-MODIFIED:20200311T183951Z
UID:1103-1586687400-1586691000@peorianazarene.church
SUMMARY:Easter @ Peoria Nazarene - 10:30 Worship
DESCRIPTION:
URL:https://peorianazarene.church/event/sunday-morning-worship-2-2019-06-23-2020-04-12/
LOCATION:IL
ATTACH;FMTTYPE=image/jpeg:/wp-content/uploads/2019/06/easter2020invitefront.jpg
END:VEVENT
BEGIN:VEVENT
DTSTART;TZID=America/Chicago:20200410T183000
DTEND;TZID=America/Chicago:20200410T190000
DTSTAMP:20260420T120607
CREATED:20200311T184515Z
LAST-MODIFIED:20200409T163003Z
UID:1666-1586543400-1586545200@peorianazarene.church
SUMMARY:Good Friday @ Peoria Nazarene
DESCRIPTION:Join us on Facebook or YouTube for our Good Friday LiveStream at 6:30pm on Friday\, April 10. \n 
URL:https://peorianazarene.church/event/easter-peoria-nazarene-800-worship/
LOCATION:IL
ATTACH;FMTTYPE=image/jpeg:/wp-content/uploads/2020/03/goodfriday2.jpg
END:VEVENT
BEGIN:VEVENT
DTSTART;TZID=America/Chicago:20200216T170000
DTEND;TZID=America/Chicago:20200216T200000
DTSTAMP:20260420T120607
CREATED:20200122T194016Z
LAST-MODIFIED:20200122T194016Z
UID:1596-1581872400-1581883200@peorianazarene.church
SUMMARY:ChiliFest 2020
DESCRIPTION:
URL:https://peorianazarene.church/event/chilifest-2020/
LOCATION:IL
ATTACH;FMTTYPE=image/jpeg:/wp-content/uploads/2020/01/chilifest2020-scaled.jpg
END:VEVENT
BEGIN:VEVENT
DTSTART;TZID=America/Chicago:20200202T103000
DTEND;TZID=America/Chicago:20200202T113000
DTSTAMP:20260420T120607
CREATED:20190611T235627Z
LAST-MODIFIED:20200122T200912Z
UID:1093-1580639400-1580643000@peorianazarene.church
SUMMARY:Sunday Morning Worship
DESCRIPTION:At The Well\, a ministry of Olivet Nazarene University\, will be leading worship in our morning worship service on Sunday\, February 2! \nAt The Well engages audiences with a unique blend of vocals and live instruments. The group’s contemporary style points people to Christ through a lively and intentional praise and worship experience. The group will share about the University\, as the seven members are full-time Olivet students: Cammi Bittinger of Indianapolis\, IN; Tim Burdine of Cincinnati\, OH; Adam Patterson of Portage\, IN; Ayana Rayfield of Ottawa\, IL; Mike DeClue of Springfield\, IL; Jacob Utter of Bourbonnais\, IL; Payton Leoni of Cedar Lake\, IN; and Michael Kren of Morris\, IL. \nPastor Mark will also be starting  a new sermon series entitled 2020 Vision – A Clear View Into the True You.
URL:https://peorianazarene.church/event/sunday-morning-worship-2-2019-06-23-2020-02-02/
LOCATION:IL
ATTACH;FMTTYPE=image/jpeg:/wp-content/uploads/2019/06/2019-At-The-Well-4x3-1.jpg
END:VEVENT
BEGIN:VEVENT
DTSTART;TZID=America/Chicago:20191224T170000
DTEND;TZID=America/Chicago:20191224T180000
DTSTAMP:20260420T120607
CREATED:20191210T173322Z
LAST-MODIFIED:20191212T210735Z
UID:1521-1577206800-1577210400@peorianazarene.church
SUMMARY:Christmas Eve Candlelight Service
DESCRIPTION:We will have a Christmas Eve Candlelight Service on December 24th @ 5:00pm. We will gather together as a church family to celebrate the birth of our Savior in worship\, the Word\, and by coming to the Lord’s table for Communion. We hope you can join us for this great evening. \n**There will be no childcare for this service
URL:https://peorianazarene.church/event/christmas-eve-candlelight-service/
LOCATION:IL
ATTACH;FMTTYPE=image/jpeg:/wp-content/uploads/2019/12/ChristmasEve-Theme.jpg
END:VEVENT
BEGIN:VEVENT
DTSTART;TZID=America/Chicago:20191222T170000
DTEND;TZID=America/Chicago:20191222T190000
DTSTAMP:20260420T120607
CREATED:20191210T173204Z
LAST-MODIFIED:20191212T210847Z
UID:1518-1577034000-1577041200@peorianazarene.church
SUMMARY:Children's Christmas Program
DESCRIPTION:Join us on Sunday\, December 22 at 5:00pm for our Children’s Christmas Program. Celebrate the Christmas story through the eyes of our children. Immediately following the program there will be s’more stations down in the Fellowship Hall.
URL:https://peorianazarene.church/event/childrens-christmas-program/
LOCATION:IL
ATTACH;FMTTYPE=image/jpeg:/wp-content/uploads/2019/12/childrenschristmasslide-scaled.jpg
END:VEVENT
BEGIN:VEVENT
DTSTART;TZID=America/Chicago:20191215T173000
DTEND;TZID=America/Chicago:20191215T203000
DTSTAMP:20260420T120607
CREATED:20191024T153429Z
LAST-MODIFIED:20191120T161219Z
UID:1442-1576431000-1576441800@peorianazarene.church
SUMMARY:Adult Christmas Party
DESCRIPTION:Our annual Adult Christmas Party is coming up on December 15th at 5:30pm! The party will be held at Childers Banquet Center – 3113 N Dries Ln. Cost is $18.50 per person and childcare is available at the church. You can sign up at the Welcome Center or by clicking here. The deadline for signup and payment is Dec 1. \nThis is a great time of food\, fun and a chance to connect with others in the church family. If you are new to Peoria Nazarene or have yet to experience this yearly event\, we encourage you to be a part of this fun night! There will be games and a white elephant gift exchange. Mark your calendars!
URL:https://peorianazarene.church/event/adult-christmas-party/
LOCATION:IL
ATTACH;FMTTYPE=image/jpeg:/wp-content/uploads/2019/10/19xmaspartyweb.jpg
END:VEVENT
END:VCALENDAR